BEGIN:VCALENDAR
VERSION:2.0
PRODID:-//Göteborgs Ornitologiska Förening - ECPv6.15.17.1//NONSGML v1.0//EN
CALSCALE:GREGORIAN
METHOD:PUBLISH
X-WR-CALNAME:Göteborgs Ornitologiska Förening
X-ORIGINAL-URL:https://gof.nu
X-WR-CALDESC:Händelser för Göteborgs Ornitologiska Förening
REFRESH-INTERVAL;VALUE=DURATION:PT1H
X-Robots-Tag:noindex
X-PUBLISHED-TTL:PT1H
BEGIN:VTIMEZONE
TZID:Europe/Stockholm
BEGIN:DAYLIGHT
TZOFFSETFROM:+0100
TZOFFSETTO:+0200
TZNAME:CEST
DTSTART:20250330T010000
END:DAYLIGHT
BEGIN:STANDARD
TZOFFSETFROM:+0200
TZOFFSETTO:+0100
TZNAME:CET
DTSTART:20251026T010000
END:STANDARD
BEGIN:DAYLIGHT
TZOFFSETFROM:+0100
TZOFFSETTO:+0200
TZNAME:CEST
DTSTART:20260329T010000
END:DAYLIGHT
BEGIN:STANDARD
TZOFFSETFROM:+0200
TZOFFSETTO:+0100
TZNAME:CET
DTSTART:20261025T010000
END:STANDARD
BEGIN:DAYLIGHT
TZOFFSETFROM:+0100
TZOFFSETTO:+0200
TZNAME:CEST
DTSTART:20270328T010000
END:DAYLIGHT
BEGIN:STANDARD
TZOFFSETFROM:+0200
TZOFFSETTO:+0100
TZNAME:CET
DTSTART:20271031T010000
END:STANDARD
END:VTIMEZONE
BEGIN:VEVENT
DTSTART;VALUE=DATE:20260401
DTEND;VALUE=DATE:20260521
DTSTAMP:20260426T020340
CREATED:20241023T085651Z
LAST-MODIFIED:20251126T202841Z
UID:7915-1775001600-1779321599@gof.nu
SUMMARY:Vår vid Breviks kile\, Tjörn (Onsdagar 1 april-20 maj)
DESCRIPTION:Alla Onsdagar mellan  1 APRIL – 20 MAJ KL 18:00 \nI Breviks kile rastar vadare och änder och tättingar\, böland annat ringtrast. Ta med fika och kikare. \nSamling: kl 18:00\, P-Plats vid Storgatan 98\, Skärhamn \nKontakt:Per Undeland (073-4198450) \nAnmälan: OBS\, ingen föranmälan\, Exkursionerna är avgiftsfria
URL:https://gof.nu/aktivitet/var-vid-breviks-kile-tjorn-alla-onsdagar-mellan-2-april-21-maj/
CATEGORIES:Exkursioner
END:VEVENT
BEGIN:VEVENT
DTSTART;VALUE=DATE:20260411
DTEND;VALUE=DATE:20260517
DTSTAMP:20260426T020340
CREATED:20260108T183325Z
LAST-MODIFIED:20260108T183325Z
UID:8622-1775865600-1778975999@gof.nu
SUMMARY:Vårfåglar i vår närhet
DESCRIPTION:Denna studiecirkel är i samarbete med Studiefrämjandet.\nCirkeln är förlagd utomhus i fågelrika områden nära Göteborg och det är på\nlördagsmorgonen vi träffas och du kommer att lära känna många fågelarter i vår närhet. Vi följer vårens ankomst och bekantar oss med de olika arterna i den takt de kommer. Kläder efter väder och du tar med dig en egen fika/matsäck. Cirkeln är för dig med inga eller små kunskaper om fåglar och du kommer att lära dig vilka fåglar du kan förvänta dig att se i närmiljön och hur du kan bestämma dem på utseende\, läte och beteende. Målsättningen är att du skall kunna känna igen våra vanligaste fåglar när du vistas ute i naturen och att få bättre kunskaper om vilka kvaliteter vi har runt om oss som vi måste värna om. \nI cirkeln kommer vi bl.a. att ta upp :\n Fåglarnas olika dräkter\n Fåglarnas beteende\n Fåglarnas ekologi och förekomst\n Artbestämning av de vanligaste\n Fågelmatning och holkar. \nKurslitteratur: Fågelguiden av Svensson\,Mullarney\,Zetterström.-ingår ej i cirkelkostnaden. \nCirkeln är i 5 sammankomster x 4 studietimmar = 20 studietimmar\ntotalt\,utelektioner/exkursioner med platser enligt följande:\nLördag 11 April 8:00- 11:30 Torslandaviken -fokus nyanlända flyttfåglar och änder.\nMötesplats P-platsen Hjärtholmsvägen.\nLördag 18 April 9:00- 12:55 Hyppeln-fokus havsänder och nyanlända flyttfåglar.\nMötesplats Parkeringen Burö färjeläge.\nLördag 25 April 8:00- 11:30 Amundön fokus änder\,vadare\,småfåglar och rovfåglar.\nMötesplats Parkeringen vid Amundön.\nLördag 2 Maj 7:00- 10:30\, Torslandaviken -fokus änder \,vadare\,sångare och tättingar.\nMötesplats P-platsen Hjärtholmsvägen.\nLördag 16 Maj 7:00- 10:30 Botaniska Trädgården -fokus sångare och andra småfåglar.\nMötesplats entren till Botaniska trädgården.\nKURSSTART: 11 april kl. 8:00\, vid P-platsen Hjärtholmsvägen.\nLEDARE: Leif Jonasson \,Göteborgs Ornitologiska Förening \,GOF. \nemail: leif.i.jonasson@gmail.com.\nANMÄLAN: www.studieframjandet.se\nKOSTNAD: 750 kr. Max 12 deltagare\nStudiefrämjandet kontakt: Paavo Väyrynen t 0706192532\npaavo.vayrynen@studieframjandet.
URL:https://gof.nu/aktivitet/varfaglar-i-var-narhet-2/
CATEGORIES:Studiecirklar
END:VEVENT
BEGIN:VEVENT
DTSTART;VALUE=DATE:20260426
DTEND;VALUE=DATE:20260427
DTSTAMP:20260426T020340
CREATED:20251014T111226Z
LAST-MODIFIED:20251123T120042Z
UID:8509-1777161600-1777247999@gof.nu
SUMMARY:Hornborgasjön
DESCRIPTION:Vi gör en dagstur till Hornborgasjön som är en av Sveriges främsta fågelsjöar. Vi förväntas se ett flertal simänder och doppingar\, förhoppningsvis också den svarthalsade doppingen. Vi hoppas på att få höra rördrom och se en och annan ägretthäger och det finns goda chanser\natt se havsörn och andra rovfåglar vid sjöns omgivningar. Vi avslutar vid Trandansen där en del tranor lär ha dröjt sig kvar. Exkursionen leds traditionsenligt av Calle Hagman. Vid tillräckligt många anmälningar åker vi i gemensam buss. Avresa kl. 6.00 från Gustav Adolfs torg med hemkomst omkring kl.19.00. \nLedare: Calle Hagman. PRIS: 600 kr inklusive naturskatt. \nAnmälan: Med e-post till resor@gof.nu senast 19 april och med inbetalning av 300 kronor via swish 123 268 2326 eller plusgiro 470 06 96-0. Skriv Hornborgasjön som ärende. Ange namn och telefonnummer och om du kan ställa upp med bil. \nKontakt (ej anmälan) Carina Nordgren (070-148 10 31).
URL:https://gof.nu/aktivitet/hornborgarsjon/
CATEGORIES:Exkursioner
END:VEVENT
END:VCALENDAR