BEGIN:VCALENDAR
VERSION:2.0
PRODID:-//Göteborgs Ornitologiska Förening - ECPv6.15.17.1//NONSGML v1.0//EN
CALSCALE:GREGORIAN
METHOD:PUBLISH
X-WR-CALNAME:Göteborgs Ornitologiska Förening
X-ORIGINAL-URL:https://gof.nu
X-WR-CALDESC:Händelser för Göteborgs Ornitologiska Förening
REFRESH-INTERVAL;VALUE=DURATION:PT1H
X-Robots-Tag:noindex
X-PUBLISHED-TTL:PT1H
BEGIN:VTIMEZONE
TZID:Europe/Stockholm
BEGIN:DAYLIGHT
TZOFFSETFROM:+0100
TZOFFSETTO:+0200
TZNAME:CEST
DTSTART:20250330T010000
END:DAYLIGHT
BEGIN:STANDARD
TZOFFSETFROM:+0200
TZOFFSETTO:+0100
TZNAME:CET
DTSTART:20251026T010000
END:STANDARD
BEGIN:DAYLIGHT
TZOFFSETFROM:+0100
TZOFFSETTO:+0200
TZNAME:CEST
DTSTART:20260329T010000
END:DAYLIGHT
BEGIN:STANDARD
TZOFFSETFROM:+0200
TZOFFSETTO:+0100
TZNAME:CET
DTSTART:20261025T010000
END:STANDARD
BEGIN:DAYLIGHT
TZOFFSETFROM:+0100
TZOFFSETTO:+0200
TZNAME:CEST
DTSTART:20270328T010000
END:DAYLIGHT
BEGIN:STANDARD
TZOFFSETFROM:+0200
TZOFFSETTO:+0100
TZNAME:CET
DTSTART:20271031T010000
END:STANDARD
END:VTIMEZONE
BEGIN:VEVENT
DTSTART;TZID=Europe/Stockholm:20260502T070000
DTEND;TZID=Europe/Stockholm:20260502T150000
DTSTAMP:20260426T002905
CREATED:20260325T083816Z
LAST-MODIFIED:20260325T083816Z
UID:8769-1777705200-1777734000@gof.nu
SUMMARY:Rundtur i Hallands fågelmarker
DESCRIPTION:Vi samåker i bil för en heldag i Halland med start från Radiomotet klockan 7.00. Väder och fåglar får avgöra var vi hamnar\, men det blir säkert flera kuststopp\, förhoppningsvis en tur inåt landet också. Sångare\, vadare\, rovfåglar – det kan bli hur bra som helst! Ta med en rejäl matsäck. Vi avslutar med ett stopp på Getterön där den som vill kan äta mat eller bara ta en fika och såklart kolla in fåglarna! Info och anmälan senast den 30 april till Elisabeth Feuk-Lagerstedt: elisabeth.lagerstedt@telia.com; 070-444 41 88. Meddela om du har bil och kan köra.
URL:https://gof.nu/aktivitet/rundtur-i-hallands-fagelmarker/
CATEGORIES:LadyBirds
END:VEVENT
BEGIN:VEVENT
DTSTART;TZID=Europe/Stockholm:20260511T173000
DTEND;TZID=Europe/Stockholm:20260511T200000
DTSTAMP:20260426T002905
CREATED:20260325T084103Z
LAST-MODIFIED:20260325T084103Z
UID:8771-1778520600-1778529600@gof.nu
SUMMARY:Stålebo dammar – smådoppingarnas favoritplats
DESCRIPTION:I fjol besökte vi Stålebo dammar med omgivande odlingslandskap på morgonen/förmiddagen – i år blir det ett kvällsbesök. De sex dammarna ligger i Lerum och anlades åren 2004–2007. Vår guide Hasse Österman berättar om våtmarken\, fågellivet och hur de sköts för att gynna mångfalden. Samling vid Floda station 17.30. Dit tar man sig med tåg eller bil. Anmälan krävs för att vi ska rymmas i tillgängliga bilar till Stålebo\, där det är ont om parkeringsplatser. Info och anmälan senast den 9 april till Elisabeth Feuk-Lagerstedt: elisabeth.lagerstedt@telia.com; 070-444 41 88. Meddela om du kommer med bil eller tåg.
URL:https://gof.nu/aktivitet/stalebo-dammar-smadoppingarnas-favoritplats/
CATEGORIES:LadyBirds
END:VEVENT
END:VCALENDAR